BEGIN:VCALENDAR
VERSION:2.0
PRODID:-//INTERGROUP OF MARTIN COUNTY - ECPv6.15.20//NONSGML v1.0//EN
CALSCALE:GREGORIAN
METHOD:PUBLISH
X-ORIGINAL-URL:http://martincountyaa.org
X-WR-CALDESC:Events for INTERGROUP OF MARTIN COUNTY
REFRESH-INTERVAL;VALUE=DURATION:PT1H
X-Robots-Tag:noindex
X-PUBLISHED-TTL:PT1H
BEGIN:VTIMEZONE
TZID:America/New_York
BEGIN:DAYLIGHT
TZOFFSETFROM:-0500
TZOFFSETTO:-0400
TZNAME:EDT
DTSTART:20240310T070000
END:DAYLIGHT
BEGIN:STANDARD
TZOFFSETFROM:-0400
TZOFFSETTO:-0500
TZNAME:EST
DTSTART:20241103T060000
END:STANDARD
BEGIN:DAYLIGHT
TZOFFSETFROM:-0500
TZOFFSETTO:-0400
TZNAME:EDT
DTSTART:20250309T070000
END:DAYLIGHT
BEGIN:STANDARD
TZOFFSETFROM:-0400
TZOFFSETTO:-0500
TZNAME:EST
DTSTART:20251102T060000
END:STANDARD
BEGIN:DAYLIGHT
TZOFFSETFROM:-0500
TZOFFSETTO:-0400
TZNAME:EDT
DTSTART:20260308T070000
END:DAYLIGHT
BEGIN:STANDARD
TZOFFSETFROM:-0400
TZOFFSETTO:-0500
TZNAME:EST
DTSTART:20261101T060000
END:STANDARD
END:VTIMEZONE
BEGIN:VEVENT
DTSTART;TZID=America/New_York:20251231T183000
DTEND;TZID=America/New_York:20251231T220000
DTSTAMP:20260425T201944
CREATED:20251227T192452Z
LAST-MODIFIED:20251227T192452Z
UID:1898-1767205800-1767218400@martincountyaa.org
SUMMARY:33rd Annual Sober New Years' Eve
DESCRIPTION:NYE 2025Invite PDF (1)
URL:http://martincountyaa.org/event/33rd-annual-sober-new-years-eve/
LOCATION:The Womens’s Club\, 729 SE Ocean Blvd\, STUART\, FL\, 34994\, United States
END:VEVENT
END:VCALENDAR