BEGIN:VCALENDAR
VERSION:2.0
PRODID:-//INTERGROUP OF MARTIN COUNTY - ECPv6.15.20//NONSGML v1.0//EN
CALSCALE:GREGORIAN
METHOD:PUBLISH
X-ORIGINAL-URL:http://martincountyaa.org
X-WR-CALDESC:Events for INTERGROUP OF MARTIN COUNTY
REFRESH-INTERVAL;VALUE=DURATION:PT1H
X-Robots-Tag:noindex
X-PUBLISHED-TTL:PT1H
BEGIN:VTIMEZONE
TZID:America/New_York
BEGIN:DAYLIGHT
TZOFFSETFROM:-0500
TZOFFSETTO:-0400
TZNAME:EDT
DTSTART:20240310T070000
END:DAYLIGHT
BEGIN:STANDARD
TZOFFSETFROM:-0400
TZOFFSETTO:-0500
TZNAME:EST
DTSTART:20241103T060000
END:STANDARD
BEGIN:DAYLIGHT
TZOFFSETFROM:-0500
TZOFFSETTO:-0400
TZNAME:EDT
DTSTART:20250309T070000
END:DAYLIGHT
BEGIN:STANDARD
TZOFFSETFROM:-0400
TZOFFSETTO:-0500
TZNAME:EST
DTSTART:20251102T060000
END:STANDARD
BEGIN:DAYLIGHT
TZOFFSETFROM:-0500
TZOFFSETTO:-0400
TZNAME:EDT
DTSTART:20260308T070000
END:DAYLIGHT
BEGIN:STANDARD
TZOFFSETFROM:-0400
TZOFFSETTO:-0500
TZNAME:EST
DTSTART:20261101T060000
END:STANDARD
END:VTIMEZONE
BEGIN:VEVENT
DTSTART;TZID=America/New_York:20251225T120000
DTEND;TZID=America/New_York:20251225T150000
DTSTAMP:20260425T213502
CREATED:20251214T163151Z
LAST-MODIFIED:20251214T163151Z
UID:1893-1766664000-1766674800@martincountyaa.org
SUMMARY:Fellowship Hall Annual Christmas Day Dinner
DESCRIPTION:Fellowship Hall X Mas Day Dinner \nBring your favorite Side Dish and/or Dessert to share. \nVolunteers needed.
URL:http://martincountyaa.org/event/fellowship-hall-annual-christmas-day-dinner/
LOCATION:Fellowship Halll\, 124 SE 6th St\, Stuart\, FL\, 34994\, United States
END:VEVENT
END:VCALENDAR